BEGIN:VCALENDAR
VERSION:2.0
METHOD:PUBLISH
BEGIN:VEVENT
DTSTART:20250404T160000Z
DTEND:20250405T210000Z
LOCATION:Millbrae, CA 94030
TRANSP: OPAQUE
SEQUENCE:0
UID:
DTSTAMP:20260421T010904Z
SUMMARY:UP TO 50% OFF - A Lifetime of Treasures by Golden Gate Estate Sales - Millbrae
DESCRIPTION:UP TO 50% OFF - A Lifetime of Treasures by Golden Gate Estate Sales - Millbrae Golden Gate Estate Sales 
UID:1776755344
STREET-ADDRESS:See website
POSTAL-CODE:94030
LOCALITY:Millbrae
REGION:ABBREV=CA
COUNTRY:ABBREV=US;ABBREV=USA:United States
URL;TYPE=Event Listing:https://estatesales.org/estate-sales/ca/millbrae/94030/a-lifetime-of-treasures-by-2369912
PRIORITY:1
CLASS:PUBLIC
SEQUENCE:0
STATUS:CONFIRMED
TRANSP:OPAQUE
END:VEVENT
END:VCALENDAR
