BEGIN:VCALENDAR
VERSION:2.0
METHOD:PUBLISH
BEGIN:VEVENT
DTSTART:20250404T160000Z
DTEND:20250405T210000Z
LOCATION:Bakersfield, CA 93301
TRANSP: OPAQUE
SEQUENCE:0
UID:
DTSTAMP:20260421T115706Z
SUMMARY:Yay!!! Another fabulous, fun-filled, finest things in life for sale brought to you by Senior Move Manager & More!
DESCRIPTION:Yay!!! Another fabulous, fun-filled, finest things in life for sale brought to you by Senior Move Manager & More! Senior Move Manager & More! 
UID:1776794226
STREET-ADDRESS:See website
POSTAL-CODE:93301
LOCALITY:Bakersfield
REGION:ABBREV=CA
COUNTRY:ABBREV=US;ABBREV=USA:United States
URL;TYPE=Event Listing:https://estatesales.org/estate-sales/ca/bakersfield/93301/yay-another-fabulous-funfilled-finest-2368914
PRIORITY:1
CLASS:PUBLIC
SEQUENCE:0
STATUS:CONFIRMED
TRANSP:OPAQUE
END:VEVENT
END:VCALENDAR
