BEGIN:VCALENDAR
VERSION:2.0
METHOD:PUBLISH
BEGIN:VEVENT
DTSTART:20240404T120000Z
DTEND:20240406T160000Z
LOCATION:Clearwater, FL 33764
TRANSP: OPAQUE
SEQUENCE:0
UID:
DTSTAMP:20260423T094748Z
SUMMARY:Baby Boomers That 70s Sale
DESCRIPTION:Baby Boomers That 70s Sale Baby Boomers Estate Sales 
UID:1776959268
STREET-ADDRESS:See website
POSTAL-CODE:33764
LOCALITY:Clearwater
REGION:ABBREV=FL
COUNTRY:ABBREV=US;ABBREV=USA:United States
URL;TYPE=Event Listing:https://estatesales.org/estate-sales/fl/clearwater/33764/baby-boomers-that-70s-sale-2297537
PRIORITY:1
CLASS:PUBLIC
SEQUENCE:0
STATUS:CONFIRMED
TRANSP:OPAQUE
END:VEVENT
END:VCALENDAR
