BEGIN:VCALENDAR
VERSION:2.0
METHOD:PUBLISH
BEGIN:VEVENT
DTSTART:20260403T130000Z
DTEND:20260404T180000Z
LOCATION:Powell, TN 37849
TRANSP: OPAQUE
SEQUENCE:0
UID:
DTSTAMP:20260421T054700Z
SUMMARY:Popular in Powell Blue Moon Estate Sale
DESCRIPTION:Popular in Powell Blue Moon Estate Sale Blue Moon Estate Sales - Knoxville 
UID:1776772020
STREET-ADDRESS:See website
POSTAL-CODE:37849
LOCALITY:Powell
REGION:ABBREV=TN
COUNTRY:ABBREV=US;ABBREV=USA:United States
URL;TYPE=Event Listing:https://estatesales.org/estate-sales/tn/powell/37849/popular-in-powell-blue-moon-2432674
PRIORITY:1
CLASS:PUBLIC
SEQUENCE:0
STATUS:CONFIRMED
TRANSP:OPAQUE
END:VEVENT
END:VCALENDAR
