BEGIN:VCALENDAR
VERSION:2.0
METHOD:PUBLISH
BEGIN:VEVENT
DTSTART:20220402T190000Z
DTEND:20220403T230000Z
LOCATION:Oakland, CA 94602
TRANSP: OPAQUE
SEQUENCE:0
UID:
DTSTAMP:20260421T062210Z
SUMMARY:Amazing Vintage Collector Estate/Moving Sale
DESCRIPTION:Amazing Vintage Collector Estate/Moving Sale
UID:1776774130
STREET-ADDRESS:See website
POSTAL-CODE:94602
LOCALITY:Oakland
REGION:ABBREV=CA
COUNTRY:ABBREV=US;ABBREV=USA:United States
URL;TYPE=Event Listing:https://estatesales.org/estate-sales/ca/oakland/94602/amazing-vintage-collector-estatemoving-sale-2011381
PRIORITY:1
CLASS:PUBLIC
SEQUENCE:0
STATUS:CONFIRMED
TRANSP:OPAQUE
END:VEVENT
END:VCALENDAR
