BEGIN:VCALENDAR
VERSION:2.0
METHOD:PUBLISH
BEGIN:VEVENT
DTSTART:20210402T130000Z
DTEND:20210404T200000Z
LOCATION:Middlesex, NJ 08846
TRANSP: OPAQUE
SEQUENCE:0
UID:
DTSTAMP:20260422T024526Z
SUMMARY:Estate Sale:  Three Generations of Antique Accumulations
DESCRIPTION:Estate Sale:  Three Generations of Antique Accumulations Hudson Estate Sales, LLC 
UID:1776847526
STREET-ADDRESS:See website
POSTAL-CODE:08846
LOCALITY:Middlesex
REGION:ABBREV=NJ
COUNTRY:ABBREV=US;ABBREV=USA:United States
URL;TYPE=Event Listing:https://estatesales.org/estate-sales/nj/middlesex/08846/estate-sale-three-generations-of-1884761
PRIORITY:1
CLASS:PUBLIC
SEQUENCE:0
STATUS:CONFIRMED
TRANSP:OPAQUE
END:VEVENT
END:VCALENDAR
