BEGIN:VCALENDAR
VERSION:2.0
METHOD:PUBLISH
BEGIN:VEVENT
DTSTART:20230401T150000Z
DTEND:20230401T180000Z
LOCATION:Waconia, MN 55387
TRANSP: OPAQUE
SEQUENCE:0
UID:
DTSTAMP:20260424T040422Z
SUMMARY:The Smiths are having a flash sale this Saturday
DESCRIPTION:The Smiths are having a flash sale this Saturday Moving On Asset Liquidation 
UID:1777025062
STREET-ADDRESS:See website
POSTAL-CODE:55387
LOCALITY:Waconia
REGION:ABBREV=MN
COUNTRY:ABBREV=US;ABBREV=USA:United States
URL;TYPE=Event Listing:https://estatesales.org/estate-sales/mn/waconia/55387/the-smiths-are-having-a-2163705
PRIORITY:1
CLASS:PUBLIC
SEQUENCE:0
STATUS:CONFIRMED
TRANSP:OPAQUE
END:VEVENT
END:VCALENDAR
