BEGIN:VCALENDAR
VERSION:2.0
METHOD:PUBLISH
BEGIN:VEVENT
DTSTART:20170331T140000Z
DTEND:20170401T200000Z
LOCATION:Sarasota, FL 34236
TRANSP: OPAQUE
SEQUENCE:0
UID:
DTSTAMP:20260425T162221Z
SUMMARY:Welcome to the Fabulous Sarasota 2 Day Sale
DESCRIPTION:Welcome to the Fabulous Sarasota 2 Day Sale A PRESTIGE ESTATE SERVICES National Company 
UID:1777155741
STREET-ADDRESS:See website
POSTAL-CODE:34236
LOCALITY:Sarasota
REGION:ABBREV=FL
COUNTRY:ABBREV=US;ABBREV=USA:United States
URL;TYPE=Event Listing:https://estatesales.org/estate-sales/fl/sarasota/34236/welcome-to-the-fabulous-sarasota-1122331
PRIORITY:1
CLASS:PUBLIC
SEQUENCE:0
STATUS:CONFIRMED
TRANSP:OPAQUE
END:VEVENT
END:VCALENDAR
