BEGIN:VCALENDAR
VERSION:2.0
METHOD:PUBLISH
BEGIN:VEVENT
DTSTART:20160331T160000Z
DTEND:20160331T203000Z
LOCATION:Mesa, AZ 85206
TRANSP: OPAQUE
SEQUENCE:0
UID:
DTSTAMP:20260423T121817Z
SUMMARY:SUNLAND VILLAGE ESTATE SALE!
DESCRIPTION:SUNLAND VILLAGE ESTATE SALE! House Of Hamblin Estate Liquidations 
UID:1776968297
STREET-ADDRESS:See website
POSTAL-CODE:85206
LOCALITY:Mesa
REGION:ABBREV=AZ
COUNTRY:ABBREV=US;ABBREV=USA:United States
URL;TYPE=Event Listing:https://estatesales.org/estate-sales/az/mesa/85206/sunland-village-estate-sale-791941
PRIORITY:1
CLASS:PUBLIC
SEQUENCE:0
STATUS:CONFIRMED
TRANSP:OPAQUE
END:VEVENT
END:VCALENDAR
