BEGIN:VCALENDAR
VERSION:2.0
METHOD:PUBLISH
BEGIN:VEVENT
DTSTART:20230330T140000Z
DTEND:20230401T170000Z
LOCATION:Deland, FL 32720
TRANSP: OPAQUE
SEQUENCE:0
UID:
DTSTAMP:20260419T121858Z
SUMMARY:Estate Sale In Deland-50% Saturday -Cars and Tools-Estate Sales In Orlando
DESCRIPTION:Estate Sale In Deland-50% Saturday -Cars and Tools-Estate Sales In Orlando Estate Sale Stars 
UID:1776622738
STREET-ADDRESS:See website
POSTAL-CODE:32720
LOCALITY:Deland
REGION:ABBREV=FL
COUNTRY:ABBREV=US;ABBREV=USA:United States
URL;TYPE=Event Listing:https://estatesales.org/estate-sales/fl/deland/32720/estate-sale-in-deland50-saturday-2159089
PRIORITY:1
CLASS:PUBLIC
SEQUENCE:0
STATUS:CONFIRMED
TRANSP:OPAQUE
END:VEVENT
END:VCALENDAR
