BEGIN:VCALENDAR
VERSION:2.0
METHOD:PUBLISH
BEGIN:VEVENT
DTSTART:20250329T130000Z
DTEND:20250329T190000Z
LOCATION:Freehold, NJ 07728
TRANSP: OPAQUE
SEQUENCE:0
UID:
DTSTAMP:20260425T203643Z
SUMMARY:A Dusty Old Bag is in Freehold for this Terrific Sale
DESCRIPTION:A Dusty Old Bag is in Freehold for this Terrific Sale A Dusty Old Bag  
UID:1777171003
STREET-ADDRESS:See website
POSTAL-CODE:07728
LOCALITY:Freehold
REGION:ABBREV=NJ
COUNTRY:ABBREV=US;ABBREV=USA:United States
URL;TYPE=Event Listing:https://estatesales.org/estate-sales/nj/freehold/07728/a-dusty-old-bag-is-2356479
PRIORITY:1
CLASS:PUBLIC
SEQUENCE:0
STATUS:CONFIRMED
TRANSP:OPAQUE
END:VEVENT
END:VCALENDAR
