BEGIN:VCALENDAR
VERSION:2.0
METHOD:PUBLISH
BEGIN:VEVENT
DTSTART:20250329T140000Z
DTEND:20250329T190000Z
LOCATION:Houston, TX 77062
TRANSP: OPAQUE
SEQUENCE:0
UID:
DTSTAMP:20260425T100246Z
SUMMARY:Clear Lake City Flash Sale! Saturday, 3/29 9AM-2PM!
DESCRIPTION:Clear Lake City Flash Sale! Saturday, 3/29 9AM-2PM! Caring Transitions of Friendswood 
UID:1777132966
STREET-ADDRESS:See website
POSTAL-CODE:77062
LOCALITY:Houston
REGION:ABBREV=TX
COUNTRY:ABBREV=US;ABBREV=USA:United States
URL;TYPE=Event Listing:https://estatesales.org/estate-sales/tx/houston/77062/clear-lake-city-flash-sale-2369171
PRIORITY:1
CLASS:PUBLIC
SEQUENCE:0
STATUS:CONFIRMED
TRANSP:OPAQUE
END:VEVENT
END:VCALENDAR
