BEGIN:VCALENDAR
VERSION:2.0
METHOD:PUBLISH
BEGIN:VEVENT
DTSTART:20240329T130000Z
DTEND:20240330T190000Z
LOCATION:Auburn, NY 13021
TRANSP: OPAQUE
SEQUENCE:0
UID:
DTSTAMP:20260423T074746Z
SUMMARY:Amazing Auburn Estate Sale
DESCRIPTION:Amazing Auburn Estate Sale Clear Horizon Estate Services 
UID:1776952066
STREET-ADDRESS:See website
POSTAL-CODE:13021
LOCALITY:Auburn
REGION:ABBREV=NY
COUNTRY:ABBREV=US;ABBREV=USA:United States
URL;TYPE=Event Listing:https://estatesales.org/estate-sales/ny/auburn-/13021/amazing-auburn-estate-sale-2297031
PRIORITY:1
CLASS:PUBLIC
SEQUENCE:0
STATUS:CONFIRMED
TRANSP:OPAQUE
END:VEVENT
END:VCALENDAR
