BEGIN:VCALENDAR
VERSION:2.0
METHOD:PUBLISH
BEGIN:VEVENT
DTSTART:20240329T160000Z
DTEND:20240330T200000Z
LOCATION:Fresno, CA 93720
TRANSP: OPAQUE
SEQUENCE:0
UID:
DTSTAMP:20260422T044553Z
SUMMARY:ESTATE SALE - Furn, kitchen, tools, patio, yard & garden, jewelry & MORE!
DESCRIPTION:ESTATE SALE - Furn, kitchen, tools, patio, yard & garden, jewelry & MORE! Basements and Beyond 
UID:1776854753
STREET-ADDRESS:See website
POSTAL-CODE:93720
LOCALITY:Fresno
REGION:ABBREV=CA
COUNTRY:ABBREV=US;ABBREV=USA:United States
URL;TYPE=Event Listing:https://estatesales.org/estate-sales/ca/fresno/93720/estate-sale-furn-kitchen-tools-2297591
PRIORITY:1
CLASS:PUBLIC
SEQUENCE:0
STATUS:CONFIRMED
TRANSP:OPAQUE
END:VEVENT
END:VCALENDAR
