BEGIN:VCALENDAR
VERSION:2.0
METHOD:PUBLISH
BEGIN:VEVENT
DTSTART:20240329T120000Z
DTEND:20240330T170000Z
LOCATION:Clinton, CT 06413
TRANSP: OPAQUE
SEQUENCE:0
UID:
DTSTAMP:20260425T152517Z
SUMMARY:Clinton Estate Sale
DESCRIPTION:Clinton Estate Sale Sean Mahoney Estate Sales LLC 
UID:1777152317
STREET-ADDRESS:See website
POSTAL-CODE:06413
LOCALITY:Clinton
REGION:ABBREV=CT
COUNTRY:ABBREV=US;ABBREV=USA:United States
URL;TYPE=Event Listing:https://estatesales.org/estate-sales/ct/clinton/06413/clinton-estate-sale-2297453
PRIORITY:1
CLASS:PUBLIC
SEQUENCE:0
STATUS:CONFIRMED
TRANSP:OPAQUE
END:VEVENT
END:VCALENDAR
