BEGIN:VCALENDAR
VERSION:2.0
METHOD:PUBLISH
BEGIN:VEVENT
DTSTART:20190329T160000Z
DTEND:20190331T220000Z
LOCATION:Grand Junction, CO 81504
TRANSP: OPAQUE
SEQUENCE:0
UID:
DTSTAMP:20260419T152905Z
SUMMARY:Red Mountain Ranch Sale Part One
DESCRIPTION:Red Mountain Ranch Sale Part One Estate Treasures by Grand Junction Estate Sales 
UID:1776634145
STREET-ADDRESS:See website
POSTAL-CODE:81504
LOCALITY:Grand Junction
REGION:ABBREV=CO
COUNTRY:ABBREV=US;ABBREV=USA:United States
URL;TYPE=Event Listing:https://estatesales.org/estate-sales/co/grand-junction/81504/red-mountain-ranch-sale-part-1639389
PRIORITY:1
CLASS:PUBLIC
SEQUENCE:0
STATUS:CONFIRMED
TRANSP:OPAQUE
END:VEVENT
END:VCALENDAR
