BEGIN:VCALENDAR
VERSION:2.0
METHOD:PUBLISH
BEGIN:VEVENT
DTSTART:20190329T160000Z
DTEND:20190331T220000Z
LOCATION:Sacramento, CA 95819
TRANSP: OPAQUE
SEQUENCE:0
UID:
DTSTAMP:20260421T115706Z
SUMMARY:East Sac Art Deco Mid Century Estate Sale Part 2
DESCRIPTION:East Sac Art Deco Mid Century Estate Sale Part 2 Calder Estate Sales and Liquidators 
UID:1776794226
STREET-ADDRESS:See website
POSTAL-CODE:95819
LOCALITY:Sacramento
REGION:ABBREV=CA
COUNTRY:ABBREV=US;ABBREV=USA:United States
URL;TYPE=Event Listing:https://estatesales.org/estate-sales/ca/sacramento/95819/east-sac-art-deco-mid-1637949
PRIORITY:1
CLASS:PUBLIC
SEQUENCE:0
STATUS:CONFIRMED
TRANSP:OPAQUE
END:VEVENT
END:VCALENDAR
