BEGIN:VCALENDAR
VERSION:2.0
METHOD:PUBLISH
BEGIN:VEVENT
DTSTART:20180329T160000Z
DTEND:20180401T000000Z
LOCATION:Westminster, CO 80021
TRANSP: OPAQUE
SEQUENCE:0
UID:
DTSTAMP:20260419T113746Z
SUMMARY:Kolb Estate
DESCRIPTION:Kolb Estate AWAY IT GOES ESTATE SALES 
UID:1776620266
STREET-ADDRESS:See website
POSTAL-CODE:80021
LOCALITY:Westminster
REGION:ABBREV=CO
COUNTRY:ABBREV=US;ABBREV=USA:United States
URL;TYPE=Event Listing:https://estatesales.org/estate-sales/co/westminster/80021/kolb-estate-1495975
PRIORITY:1
CLASS:PUBLIC
SEQUENCE:0
STATUS:CONFIRMED
TRANSP:OPAQUE
END:VEVENT
END:VCALENDAR
