BEGIN:VCALENDAR
VERSION:2.0
METHOD:PUBLISH
BEGIN:VEVENT
DTSTART:20160329T210000Z
DTEND:20160330T180000Z
LOCATION:Bothell, WA 98021
TRANSP: OPAQUE
SEQUENCE:0
UID:
DTSTAMP:20260421T013648Z
SUMMARY:Sale in Bothell
DESCRIPTION:Sale in Bothell Graceful Changes Estate Sales LLC 
UID:1776757008
STREET-ADDRESS:See website
POSTAL-CODE:98021
LOCALITY:Bothell
REGION:ABBREV=WA
COUNTRY:ABBREV=US;ABBREV=USA:United States
URL;TYPE=Event Listing:https://estatesales.org/estate-sales/wa/bothell/98021/sale-in-bothell-806915
PRIORITY:1
CLASS:PUBLIC
SEQUENCE:0
STATUS:CONFIRMED
TRANSP:OPAQUE
END:VEVENT
END:VCALENDAR
