BEGIN:VCALENDAR
VERSION:2.0
METHOD:PUBLISH
BEGIN:VEVENT
DTSTART:20250328T160000Z
DTEND:20250329T190000Z
LOCATION:Sun City West, AZ 85375
TRANSP: OPAQUE
SEQUENCE:0
UID:
DTSTAMP:20260419T194836Z
SUMMARY:Sun City West Estate Sale
DESCRIPTION:Sun City West Estate Sale Arizona Finds 
UID:1776649716
STREET-ADDRESS:See website
POSTAL-CODE:85375
LOCALITY:Sun City West
REGION:ABBREV=AZ
COUNTRY:ABBREV=US;ABBREV=USA:United States
URL;TYPE=Event Listing:https://estatesales.org/estate-sales/az/sun-city-west/85375/sun-city-west-estate-sale-2368280
PRIORITY:1
CLASS:PUBLIC
SEQUENCE:0
STATUS:CONFIRMED
TRANSP:OPAQUE
END:VEVENT
END:VCALENDAR
