BEGIN:VCALENDAR
VERSION:2.0
METHOD:PUBLISH
BEGIN:VEVENT
DTSTART:20250328T123000Z
DTEND:20250329T180000Z
LOCATION:Orlando, FL 32806
TRANSP: OPAQUE
SEQUENCE:0
UID:
DTSTAMP:20260422T183433Z
SUMMARY:Estate Sale ladies will be in Orlando
DESCRIPTION:Estate Sale ladies will be in Orlando Orlando Estate Sale Ladies, LLC 
UID:1776904473
STREET-ADDRESS:See website
POSTAL-CODE:32806
LOCALITY:Orlando
REGION:ABBREV=FL
COUNTRY:ABBREV=US;ABBREV=USA:United States
URL;TYPE=Event Listing:https://estatesales.org/estate-sales/fl/orlando/32806/estate-sale-ladies-will-be-2368775
PRIORITY:1
CLASS:PUBLIC
SEQUENCE:0
STATUS:CONFIRMED
TRANSP:OPAQUE
END:VEVENT
END:VCALENDAR
