BEGIN:VCALENDAR
VERSION:2.0
METHOD:PUBLISH
BEGIN:VEVENT
DTSTART:20250328T150000Z
DTEND:20250330T200000Z
LOCATION:Borrego Springs, CA 92004
TRANSP: OPAQUE
SEQUENCE:0
UID:
DTSTAMP:20260425T045050Z
SUMMARY:Borrego Springs 4 Bedroom Home
DESCRIPTION:Borrego Springs 4 Bedroom Home Groovy Bakeshop 
UID:1777114250
STREET-ADDRESS:See website
POSTAL-CODE:92004
LOCALITY:Borrego Springs
REGION:ABBREV=CA
COUNTRY:ABBREV=US;ABBREV=USA:United States
URL;TYPE=Event Listing:https://estatesales.org/estate-sales/ca/borrego-springs/92004/borrego-springs-4-bedroom-home-2367757
PRIORITY:1
CLASS:PUBLIC
SEQUENCE:0
STATUS:CONFIRMED
TRANSP:OPAQUE
END:VEVENT
END:VCALENDAR
