BEGIN:VCALENDAR
VERSION:2.0
METHOD:PUBLISH
BEGIN:VEVENT
DTSTART:20240328T130000Z
DTEND:20240330T200000Z
LOCATION:Havelock, NC 28532
TRANSP: OPAQUE
SEQUENCE:0
UID:
DTSTAMP:20260420T070150Z
SUMMARY:LARGE 2 or 3 PART ESTATE SALE
DESCRIPTION:LARGE 2 or 3 PART ESTATE SALE Crystal Coast Estate Sales 
UID:1776690110
STREET-ADDRESS:See website
POSTAL-CODE:28532
LOCALITY:Havelock
REGION:ABBREV=NC
COUNTRY:ABBREV=US;ABBREV=USA:United States
URL;TYPE=Event Listing:https://estatesales.org/estate-sales/nc/havelock/28532/large-2-or-3-part-2296525
PRIORITY:1
CLASS:PUBLIC
SEQUENCE:0
STATUS:CONFIRMED
TRANSP:OPAQUE
END:VEVENT
END:VCALENDAR
