BEGIN:VCALENDAR
VERSION:2.0
METHOD:PUBLISH
BEGIN:VEVENT
DTSTART:20260327T150000Z
DTEND:20260328T210000Z
LOCATION:Chandler, AZ 85248
TRANSP: OPAQUE
SEQUENCE:0
UID:
DTSTAMP:20260424T180203Z
SUMMARY:***SPRINGTIME SAVINGS IN SUN LAKES***
DESCRIPTION:***SPRINGTIME SAVINGS IN SUN LAKES*** Anderson Family Estate Sales & Services, LLC 
UID:1777075323
STREET-ADDRESS:See website
POSTAL-CODE:85248
LOCALITY:Chandler
REGION:ABBREV=AZ
COUNTRY:ABBREV=US;ABBREV=USA:United States
URL;TYPE=Event Listing:https://estatesales.org/estate-sales/az/chandler/85248/springtime-savings-in-sun-lakes-2429140
PRIORITY:1
CLASS:PUBLIC
SEQUENCE:0
STATUS:CONFIRMED
TRANSP:OPAQUE
END:VEVENT
END:VCALENDAR
