BEGIN:VCALENDAR
VERSION:2.0
METHOD:PUBLISH
BEGIN:VEVENT
DTSTART:20250327T120000Z
DTEND:20250327T200000Z
LOCATION:The Villages, FL 32163
TRANSP: OPAQUE
SEQUENCE:0
UID:
DTSTAMP:20260420T080145Z
SUMMARY:Moving Sale
DESCRIPTION:Moving Sale
UID:1776693705
STREET-ADDRESS:See website
POSTAL-CODE:32163
LOCALITY:The Villages
REGION:ABBREV=FL
COUNTRY:ABBREV=US;ABBREV=USA:United States
URL;TYPE=Event Listing:https://estatesales.org/estate-sales/fl/the-villages/32163/moving-sale-2369237
PRIORITY:1
CLASS:PUBLIC
SEQUENCE:0
STATUS:CONFIRMED
TRANSP:OPAQUE
END:VEVENT
END:VCALENDAR
