BEGIN:VCALENDAR
VERSION:2.0
METHOD:PUBLISH
BEGIN:VEVENT
DTSTART:20210327T130000Z
DTEND:20210328T200000Z
LOCATION:Bellport, NY 11713
TRANSP: OPAQUE
SEQUENCE:0
UID:
DTSTAMP:20260422T123229Z
SUMMARY:Waterfront manor Antiques-Art-Smalls MUST EMPTY FAST! 
DESCRIPTION:Waterfront manor Antiques-Art-Smalls MUST EMPTY FAST!  Bellport Jewelers & Rarities 
UID:1776882749
STREET-ADDRESS:See website
POSTAL-CODE:11713
LOCALITY:Bellport
REGION:ABBREV=NY
COUNTRY:ABBREV=US;ABBREV=USA:United States
URL;TYPE=Event Listing:https://estatesales.org/estate-sales/ny/bellport/11713/waterfront-manor-antiquesartsmalls-must-empty-1880989
PRIORITY:1
CLASS:PUBLIC
SEQUENCE:0
STATUS:CONFIRMED
TRANSP:OPAQUE
END:VEVENT
END:VCALENDAR
