BEGIN:VCALENDAR
VERSION:2.0
METHOD:PUBLISH
BEGIN:VEVENT
DTSTART:20200327T140000Z
DTEND:20200328T200000Z
LOCATION:By appointment only.
TRANSP: OPAQUE
SEQUENCE:0
UID:
DTSTAMP:20260424T042410Z
SUMMARY:Carroll County is under Shelter at this time! We will sell items by appointment or online only!!
DESCRIPTION:Carroll County is under Shelter at this time! We will sell items by appointment or online only!! A Honey Hole Estate Sales 
UID:1777026250
STREET-ADDRESS:See website
POSTAL-CODE:30180
LOCALITY:Villa Rica
REGION:ABBREV=GA
COUNTRY:ABBREV=US;ABBREV=USA:United States
URL;TYPE=Event Listing:https://estatesales.org/estate-sales/ga/villa-rica/30180/carroll-county-is-under-shelter-1778381
PRIORITY:1
CLASS:PUBLIC
SEQUENCE:0
STATUS:CONFIRMED
TRANSP:OPAQUE
END:VEVENT
END:VCALENDAR
