BEGIN:VCALENDAR
VERSION:2.0
METHOD:PUBLISH
BEGIN:VEVENT
DTSTART:20250326T180000Z
DTEND:20250327T045900Z
LOCATION:Portage, IN 46368
TRANSP: OPAQUE
SEQUENCE:0
UID:
DTSTAMP:20260419T082754Z
SUMMARY:OWN Your OWN Home Ingram Manor LIVE Bid Auction $2,400. Min Starting Bid
DESCRIPTION:OWN Your OWN Home Ingram Manor LIVE Bid Auction $2,400. Min Starting Bid Auction & Estates by Diana Cook 
UID:1776608874
STREET-ADDRESS:See website
POSTAL-CODE:46368
LOCALITY:Portage
REGION:ABBREV=IN
COUNTRY:ABBREV=US;ABBREV=USA:United States
URL;TYPE=Event Listing:https://estatesales.org/estate-sales/in/portage/46368/own-your-own-home-ingram-2362327
PRIORITY:1
CLASS:PUBLIC
SEQUENCE:0
STATUS:CONFIRMED
TRANSP:OPAQUE
END:VEVENT
END:VCALENDAR
