BEGIN:VCALENDAR
VERSION:2.0
METHOD:PUBLISH
BEGIN:VEVENT
DTSTART:20210326T140000Z
DTEND:20210327T200000Z
LOCATION:Corsicana, TX 75109
TRANSP: OPAQUE
SEQUENCE:0
UID:
DTSTAMP:20260424T215020Z
SUMMARY:Lakeside Estate Sales LLC: Richland Chambers Lake, Corsicana, TX.
DESCRIPTION:Lakeside Estate Sales LLC: Richland Chambers Lake, Corsicana, TX. Lakeside Estate Sales, CGL LLC. 
UID:1777089020
STREET-ADDRESS:See website
POSTAL-CODE:75109
LOCALITY:Corsicana
REGION:ABBREV=TX
COUNTRY:ABBREV=US;ABBREV=USA:United States
URL;TYPE=Event Listing:https://estatesales.org/estate-sales/tx/corsicana/75109/lakeside-estate-sales-llc-richland-1880643
PRIORITY:1
CLASS:PUBLIC
SEQUENCE:0
STATUS:CONFIRMED
TRANSP:OPAQUE
END:VEVENT
END:VCALENDAR
