BEGIN:VCALENDAR
VERSION:2.0
METHOD:PUBLISH
BEGIN:VEVENT
DTSTART:20160326T140000Z
DTEND:20160326T060000Z
LOCATION:Carson City, NV 89706
TRANSP: OPAQUE
SEQUENCE:0
UID:
DTSTAMP:20260425T194247Z
SUMMARY:On-Site Printing Business Liquidation This Saturday, March 26, 2016 at 10am
DESCRIPTION:On-Site Printing Business Liquidation This Saturday, March 26, 2016 at 10am Carson City Auction Company 
UID:1777167767
STREET-ADDRESS:See website
POSTAL-CODE:89706
LOCALITY:Carson City
REGION:ABBREV=NV
COUNTRY:ABBREV=US;ABBREV=USA:United States
URL;TYPE=Event Listing:https://estatesales.org/estate-sales/nv/carson-city/89706/onsite-printing-business-liquidation-this-804119
PRIORITY:1
CLASS:PUBLIC
SEQUENCE:0
STATUS:CONFIRMED
TRANSP:OPAQUE
END:VEVENT
END:VCALENDAR
