BEGIN:VCALENDAR
VERSION:2.0
METHOD:PUBLISH
BEGIN:VEVENT
DTSTART:20230325T160000Z
DTEND:20230327T210000Z
LOCATION:Hurst, TX 76054
TRANSP: OPAQUE
SEQUENCE:0
UID:
DTSTAMP:20260419T082745Z
SUMMARY:Blue Moon Estate Sales: 50% OFF DAY in Hurst
DESCRIPTION:Blue Moon Estate Sales: 50% OFF DAY in Hurst Blue Moon Estate Sales - (Fort Worth North) 
UID:1776608865
STREET-ADDRESS:See website
POSTAL-CODE:76054
LOCALITY:Hurst
REGION:ABBREV=TX
COUNTRY:ABBREV=US;ABBREV=USA:United States
URL;TYPE=Event Listing:https://estatesales.org/estate-sales/tx/hurst/76054/blue-moon-estate-sales-50-2156865
PRIORITY:1
CLASS:PUBLIC
SEQUENCE:0
STATUS:CONFIRMED
TRANSP:OPAQUE
END:VEVENT
END:VCALENDAR
