BEGIN:VCALENDAR
VERSION:2.0
METHOD:PUBLISH
BEGIN:VEVENT
DTSTART:20230325T150000Z
DTEND:20230326T190000Z
LOCATION:Bakersfield, CA 93312
TRANSP: OPAQUE
SEQUENCE:0
UID:
DTSTAMP:20260422T084609Z
SUMMARY:50 % off on Sunday 3/26/23 Bakersfield, CA Stunning Estate Sale 93312
DESCRIPTION:50 % off on Sunday 3/26/23 Bakersfield, CA Stunning Estate Sale 93312 Complete Estate Management 
UID:1776869169
STREET-ADDRESS:See website
POSTAL-CODE:93312
LOCALITY:Bakersfield
REGION:ABBREV=CA
COUNTRY:ABBREV=US;ABBREV=USA:United States
URL;TYPE=Event Listing:https://estatesales.org/estate-sales/ca/bakersfield/93312/50-off-on-sunday-32623-2159009
PRIORITY:1
CLASS:PUBLIC
SEQUENCE:0
STATUS:CONFIRMED
TRANSP:OPAQUE
END:VEVENT
END:VCALENDAR
