BEGIN:VCALENDAR
VERSION:2.0
METHOD:PUBLISH
BEGIN:VEVENT
DTSTART:20210325T140000Z
DTEND:20210327T200000Z
LOCATION:Corsicana, TX 75110
TRANSP: OPAQUE
SEQUENCE:0
UID:
DTSTAMP:20260424T215850Z
SUMMARY:Lakeside Estate Sales LLC: Fantastic Sale in Corsicana, TX
DESCRIPTION:Lakeside Estate Sales LLC: Fantastic Sale in Corsicana, TX Lakeside Estate Sales, CGL LLC. 
UID:1777089530
STREET-ADDRESS:See website
POSTAL-CODE:75110
LOCALITY:Corsicana
REGION:ABBREV=TX
COUNTRY:ABBREV=US;ABBREV=USA:United States
URL;TYPE=Event Listing:https://estatesales.org/estate-sales/tx/corsicana/75110/lakeside-estate-sales-llc-fantastic-1880635
PRIORITY:1
CLASS:PUBLIC
SEQUENCE:0
STATUS:CONFIRMED
TRANSP:OPAQUE
END:VEVENT
END:VCALENDAR
