BEGIN:VCALENDAR
VERSION:2.0
METHOD:PUBLISH
BEGIN:VEVENT
DTSTART:20190324T130000Z
DTEND:20190324T180000Z
LOCATION:Olathe, KS 66061
TRANSP: OPAQUE
SEQUENCE:0
UID:
DTSTAMP:20260419T070254Z
SUMMARY:Caring Transitions KC 5 hour make offer sale!
DESCRIPTION:Caring Transitions KC 5 hour make offer sale! Caring Transitions Kansas City 
UID:1776603774
STREET-ADDRESS:See website
POSTAL-CODE:66061
LOCALITY:Olathe
REGION:ABBREV=KS
COUNTRY:ABBREV=US;ABBREV=USA:United States
URL;TYPE=Event Listing:https://estatesales.org/estate-sales/ks/olathe-/66061/caring-transitions-kc-5-hour-1637831
PRIORITY:1
CLASS:PUBLIC
SEQUENCE:0
STATUS:CONFIRMED
TRANSP:OPAQUE
END:VEVENT
END:VCALENDAR
