BEGIN:VCALENDAR
VERSION:2.0
METHOD:PUBLISH
BEGIN:VEVENT
DTSTART:20180324T130000Z
DTEND:20180324T170000Z
LOCATION:North Port, FL 34286
TRANSP: OPAQUE
SEQUENCE:0
UID:
DTSTAMP:20260425T162232Z
SUMMARY:WELCOME T0 THE CUTE NORTH PORT SALE
DESCRIPTION:WELCOME T0 THE CUTE NORTH PORT SALE A PRESTIGE ESTATE SERVICES National Company 
UID:1777155752
STREET-ADDRESS:See website
POSTAL-CODE:34286
LOCALITY:North Port
REGION:ABBREV=FL
COUNTRY:ABBREV=US;ABBREV=USA:United States
URL;TYPE=Event Listing:https://estatesales.org/estate-sales/fl/north-port/34286/welcome-t0-the-cute-north-1494809
PRIORITY:1
CLASS:PUBLIC
SEQUENCE:0
STATUS:CONFIRMED
TRANSP:OPAQUE
END:VEVENT
END:VCALENDAR
