BEGIN:VCALENDAR
VERSION:2.0
METHOD:PUBLISH
BEGIN:VEVENT
DTSTART:20170324T150000Z
DTEND:20170326T210000Z
LOCATION:Austin, TX 78746
TRANSP: OPAQUE
SEQUENCE:0
UID:
DTSTAMP:20260424T121810Z
SUMMARY:West Lake Estate Treasures
DESCRIPTION:West Lake Estate Treasures Past 2 Present Estate Sale Service 
UID:1777054690
STREET-ADDRESS:See website
POSTAL-CODE:78746
LOCALITY:Austin
REGION:ABBREV=TX
COUNTRY:ABBREV=US;ABBREV=USA:United States
URL;TYPE=Event Listing:https://estatesales.org/estate-sales/tx/austin/78746/west-lake-estate-treasures-1094453
PRIORITY:1
CLASS:PUBLIC
SEQUENCE:0
STATUS:CONFIRMED
TRANSP:OPAQUE
END:VEVENT
END:VCALENDAR
