BEGIN:VCALENDAR
VERSION:2.0
METHOD:PUBLISH
BEGIN:VEVENT
DTSTART:20160324T130000Z
DTEND:20160326T180000Z
LOCATION:Palm Harbor, FL 34684
TRANSP: OPAQUE
SEQUENCE:0
UID:
DTSTAMP:20260419T113717Z
SUMMARY:UPDATE:  EVERYTHING BUT THE KITCHEN SINK AT THIS WEEK'S ESTATE SALE
DESCRIPTION:UPDATE:  EVERYTHING BUT THE KITCHEN SINK AT THIS WEEK'S ESTATE SALE Assisted Carefree Moves & Estate Services 
UID:1776620237
STREET-ADDRESS:See website
POSTAL-CODE:34684
LOCALITY:Palm Harbor
REGION:ABBREV=FL
COUNTRY:ABBREV=US;ABBREV=USA:United States
URL;TYPE=Event Listing:https://estatesales.org/estate-sales/fl/palm-harbor/34684/update-everything-but-the-kitchen-801085
PRIORITY:1
CLASS:PUBLIC
SEQUENCE:0
STATUS:CONFIRMED
TRANSP:OPAQUE
END:VEVENT
END:VCALENDAR
