BEGIN:VCALENDAR
VERSION:2.0
METHOD:PUBLISH
BEGIN:VEVENT
DTSTART:20250323T160000Z
DTEND:20250323T230000Z
LOCATION:Portsmouth, VA 23707
TRANSP: OPAQUE
SEQUENCE:0
UID:
DTSTAMP:20260421T033201Z
SUMMARY:AUCTION OF COLONEL'S ESTATE SUNDAY MARCH 23 NOON PREVIEW DOORS OPEN AT 10:00 AM ON SUNDAY MARCH 23
DESCRIPTION:AUCTION OF COLONEL'S ESTATE SUNDAY MARCH 23 NOON PREVIEW DOORS OPEN AT 10:00 AM ON SUNDAY MARCH 23 Randy's Auction Gallery Ltd. 
UID:1776763921
STREET-ADDRESS:See website
POSTAL-CODE:23707
LOCALITY:Portsmouth
REGION:ABBREV=VA
COUNTRY:ABBREV=US;ABBREV=USA:United States
URL;TYPE=Event Listing:https://estatesales.org/estate-sales/va/portsmouth/23707/auction-of-colonels-estate-sunday-2365230
PRIORITY:1
CLASS:PUBLIC
SEQUENCE:0
STATUS:CONFIRMED
TRANSP:OPAQUE
END:VEVENT
END:VCALENDAR
