BEGIN:VCALENDAR
VERSION:2.0
METHOD:PUBLISH
BEGIN:VEVENT
DTSTART:20240323T130000Z
DTEND:20240324T170000Z
LOCATION:Clay, NY 13090
TRANSP: OPAQUE
SEQUENCE:0
UID:
DTSTAMP:20260423T074745Z
SUMMARY:Liverpool Estate Sale
DESCRIPTION:Liverpool Estate Sale Clear Horizon Estate Services 
UID:1776952065
STREET-ADDRESS:See website
POSTAL-CODE:13090
LOCALITY:Clay
REGION:ABBREV=NY
COUNTRY:ABBREV=US;ABBREV=USA:United States
URL;TYPE=Event Listing:https://estatesales.org/estate-sales/ny/clay/13090/liverpool-estate-sale-2295437
PRIORITY:1
CLASS:PUBLIC
SEQUENCE:0
STATUS:CONFIRMED
TRANSP:OPAQUE
END:VEVENT
END:VCALENDAR
