BEGIN:VCALENDAR
VERSION:2.0
METHOD:PUBLISH
BEGIN:VEVENT
DTSTART:20240323T130000Z
DTEND:20240323T190000Z
LOCATION:Deltona, FL 32725
TRANSP: OPAQUE
SEQUENCE:0
UID:
DTSTAMP:20260423T132548Z
SUMMARY:75 % OFF Blowout in Deltona!
DESCRIPTION:75 % OFF Blowout in Deltona! Estate Sales by Emerald 
UID:1776972348
STREET-ADDRESS:See website
POSTAL-CODE:32725
LOCALITY:Deltona
REGION:ABBREV=FL
COUNTRY:ABBREV=US;ABBREV=USA:United States
URL;TYPE=Event Listing:https://estatesales.org/estate-sales/fl/deltona/32725/75-off-blowout-in-deltona-2294219
PRIORITY:1
CLASS:PUBLIC
SEQUENCE:0
STATUS:CONFIRMED
TRANSP:OPAQUE
END:VEVENT
END:VCALENDAR
