BEGIN:VCALENDAR
VERSION:2.0
METHOD:PUBLISH
BEGIN:VEVENT
DTSTART:20230323T150000Z
DTEND:20230325T200000Z
LOCATION:Waconia, MN 55387
TRANSP: OPAQUE
SEQUENCE:0
UID:
DTSTAMP:20260424T040423Z
SUMMARY:Smith Family Estate Sale 
DESCRIPTION:Smith Family Estate Sale  Moving On Asset Liquidation 
UID:1777025063
STREET-ADDRESS:See website
POSTAL-CODE:55387
LOCALITY:Waconia
REGION:ABBREV=MN
COUNTRY:ABBREV=US;ABBREV=USA:United States
URL;TYPE=Event Listing:https://estatesales.org/estate-sales/mn/waconia/55387/smith-family-estate-sale-2154453
PRIORITY:1
CLASS:PUBLIC
SEQUENCE:0
STATUS:CONFIRMED
TRANSP:OPAQUE
END:VEVENT
END:VCALENDAR
