BEGIN:VCALENDAR
VERSION:2.0
METHOD:PUBLISH
BEGIN:VEVENT
DTSTART:20190323T130000Z
DTEND:20190324T200000Z
LOCATION:Gordonsville, VA 22942
TRANSP: OPAQUE
SEQUENCE:0
UID:
DTSTAMP:20260423T110437Z
SUMMARY:Grand Estate in Zion Crossroads (Exit 136 off Route 64)
DESCRIPTION:Grand Estate in Zion Crossroads (Exit 136 off Route 64) B. Gibbens Estate Sales 
UID:1776963877
STREET-ADDRESS:See website
POSTAL-CODE:22942
LOCALITY:Gordonsville
REGION:ABBREV=VA
COUNTRY:ABBREV=US;ABBREV=USA:United States
URL;TYPE=Event Listing:https://estatesales.org/estate-sales/va/zion-crossroads/22942/grand-estate-in-zion-crossroads-1635223
PRIORITY:1
CLASS:PUBLIC
SEQUENCE:0
STATUS:CONFIRMED
TRANSP:OPAQUE
END:VEVENT
END:VCALENDAR
