BEGIN:VCALENDAR
VERSION:2.0
METHOD:PUBLISH
BEGIN:VEVENT
DTSTART:20180323T140000Z
DTEND:20180325T180000Z
LOCATION:Severna Park, MD 21146
TRANSP: OPAQUE
SEQUENCE:0
UID:
DTSTAMP:20260420T161957Z
SUMMARY:Chartwell in Severna Park
DESCRIPTION:Chartwell in Severna Park Easy Estate Liquidations 
UID:1776723597
STREET-ADDRESS:See website
POSTAL-CODE:21146
LOCALITY:Severna Park
REGION:ABBREV=MD
COUNTRY:ABBREV=US;ABBREV=USA:United States
URL;TYPE=Event Listing:https://estatesales.org/estate-sales/md/severna-park/21146/chartwell-in-severna-park-1492079
PRIORITY:1
CLASS:PUBLIC
SEQUENCE:0
STATUS:CONFIRMED
TRANSP:OPAQUE
END:VEVENT
END:VCALENDAR
