BEGIN:VCALENDAR
VERSION:2.0
METHOD:PUBLISH
BEGIN:VEVENT
DTSTART:20170323T130000Z
DTEND:20170325T200000Z
LOCATION:Kennesaw, GA 30152
TRANSP: OPAQUE
SEQUENCE:0
UID:
DTSTAMP:20260420T113940Z
SUMMARY:KENNESAW Estate Sale
DESCRIPTION:KENNESAW Estate Sale The Creative Tag Estate Sales 
UID:1776706780
STREET-ADDRESS:See website
POSTAL-CODE:30152
LOCALITY:Kennesaw
REGION:ABBREV=GA
COUNTRY:ABBREV=US;ABBREV=USA:United States
URL;TYPE=Event Listing:https://estatesales.org/estate-sales/ga/kennesaw/30152/kennesaw-estate-sale-1092535
PRIORITY:1
CLASS:PUBLIC
SEQUENCE:0
STATUS:CONFIRMED
TRANSP:OPAQUE
END:VEVENT
END:VCALENDAR
