BEGIN:VCALENDAR
VERSION:2.0
METHOD:PUBLISH
BEGIN:VEVENT
DTSTART:20130323T170000Z
DTEND:20130324T223000Z
LOCATION:Belmont, CA 94402
TRANSP: OPAQUE
SEQUENCE:0
UID:
DTSTAMP:20260424T121953Z
SUMMARY:HUGE Belmont sale part 1
DESCRIPTION:HUGE Belmont sale part 1 S&S ESTATE SALES 
UID:1777054793
STREET-ADDRESS:See website
POSTAL-CODE:94402
LOCALITY:Belmont
REGION:ABBREV=CA
COUNTRY:ABBREV=US;ABBREV=USA:United States
URL;TYPE=Event Listing:https://estatesales.org/estate-sales/ca/belmont/94402/huge-belmont-sale-part-1-253652
PRIORITY:1
CLASS:PUBLIC
SEQUENCE:0
STATUS:CONFIRMED
TRANSP:OPAQUE
END:VEVENT
END:VCALENDAR
