BEGIN:VCALENDAR
VERSION:2.0
METHOD:PUBLISH
BEGIN:VEVENT
DTSTART:20260322T163000Z
DTEND:20260322T213000Z
LOCATION:Charlottesville, IN 46117
TRANSP: OPAQUE
SEQUENCE:0
UID:
DTSTAMP:20260421T105230Z
SUMMARY:Live Estate and Collector Auction
DESCRIPTION:Live Estate and Collector Auction Denotter Auctions 
UID:1776790350
STREET-ADDRESS:See website
POSTAL-CODE:46117
LOCALITY:Charlottesville
REGION:ABBREV=IN
COUNTRY:ABBREV=US;ABBREV=USA:United States
URL;TYPE=Event Listing:https://estatesales.org/estate-sales/in/charlottesville/46117/live-estate-and-collector-auction-2429075
PRIORITY:1
CLASS:PUBLIC
SEQUENCE:0
STATUS:CONFIRMED
TRANSP:OPAQUE
END:VEVENT
END:VCALENDAR
