BEGIN:VCALENDAR
VERSION:2.0
METHOD:PUBLISH
BEGIN:VEVENT
DTSTART:20240322T140000Z
DTEND:20240323T200000Z
LOCATION:Jacksonville, NC 28546
TRANSP: OPAQUE
SEQUENCE:0
UID:
DTSTAMP:20260420T041906Z
SUMMARY:TFR Productions, *Estate Sale* Jacksonville, NC. Military/Tools/Kitchenware/Furniture/Collectibles
DESCRIPTION:TFR Productions, *Estate Sale* Jacksonville, NC. Military/Tools/Kitchenware/Furniture/Collectibles The Flipping Rooster 
UID:1776680346
STREET-ADDRESS:See website
POSTAL-CODE:28546
LOCALITY:Jacksonville
REGION:ABBREV=NC
COUNTRY:ABBREV=US;ABBREV=USA:United States
URL;TYPE=Event Listing:https://estatesales.org/estate-sales/nc/jacksonville/28546/tfr-productions-estate-sale-jacksonville-2294015
PRIORITY:1
CLASS:PUBLIC
SEQUENCE:0
STATUS:CONFIRMED
TRANSP:OPAQUE
END:VEVENT
END:VCALENDAR
