BEGIN:VCALENDAR
VERSION:2.0
METHOD:PUBLISH
BEGIN:VEVENT
DTSTART:20240322T163000Z
DTEND:20240323T210000Z
LOCATION:Apache Junction, AZ 85119
TRANSP: OPAQUE
SEQUENCE:0
UID:
DTSTAMP:20260421T230011Z
SUMMARY:Eclectic Home with lots of treasures located in Apache Junction
DESCRIPTION:Eclectic Home with lots of treasures located in Apache Junction Boyds AZ 
UID:1776834011
STREET-ADDRESS:See website
POSTAL-CODE:85119
LOCALITY:Apache Junction
REGION:ABBREV=AZ
COUNTRY:ABBREV=US;ABBREV=USA:United States
URL;TYPE=Event Listing:https://estatesales.org/estate-sales/az/apache-junction/85119/eclectic-home-with-lots-of-2288977
PRIORITY:1
CLASS:PUBLIC
SEQUENCE:0
STATUS:CONFIRMED
TRANSP:OPAQUE
END:VEVENT
END:VCALENDAR
