BEGIN:VCALENDAR
VERSION:2.0
METHOD:PUBLISH
BEGIN:VEVENT
DTSTART:20240322T150000Z
DTEND:20240323T210000Z
LOCATION:Cathedral City, CA 92234
TRANSP: OPAQUE
SEQUENCE:0
UID:
DTSTAMP:20260421T091912Z
SUMMARY:Estate sale Cathedral city
DESCRIPTION:Estate sale Cathedral city Palm Springs Estate Sales 
UID:1776784752
STREET-ADDRESS:See website
POSTAL-CODE:92234
LOCALITY:Cathedral City
REGION:ABBREV=CA
COUNTRY:ABBREV=US;ABBREV=USA:United States
URL;TYPE=Event Listing:https://estatesales.org/estate-sales/ca/cathedral-city/92234/estate-sale-cathedral-city-2292789
PRIORITY:1
CLASS:PUBLIC
SEQUENCE:0
STATUS:CONFIRMED
TRANSP:OPAQUE
END:VEVENT
END:VCALENDAR
