BEGIN:VCALENDAR
VERSION:2.0
METHOD:PUBLISH
BEGIN:VEVENT
DTSTART:20140322T120000Z
DTEND:20140323T190000Z
LOCATION:Durham, NC 27705
TRANSP: OPAQUE
SEQUENCE:0
UID:
DTSTAMP:20260419T082546Z
SUMMARY:ESTATE LIQUIDATION
DESCRIPTION:ESTATE LIQUIDATION Steve Minor Estate Liquidations and Appraisals 
UID:1776608746
STREET-ADDRESS:See website
POSTAL-CODE:27705
LOCALITY:Durham
REGION:ABBREV=NC
COUNTRY:ABBREV=US;ABBREV=USA:United States
URL;TYPE=Event Listing:https://estatesales.org/estate-sales/nc/durham/27705/estate-liquidation-365023
PRIORITY:1
CLASS:PUBLIC
SEQUENCE:0
STATUS:CONFIRMED
TRANSP:OPAQUE
END:VEVENT
END:VCALENDAR
